BEGIN:VCALENDAR
VERSION:2.0
PRODID:-//Next Level Horsemanship - ECPv6.13.2.1//NONSGML v1.0//EN
CALSCALE:GREGORIAN
METHOD:PUBLISH
X-ORIGINAL-URL:https://www.nextlevelhorsemanship.com
X-WR-CALDESC:Events for Next Level Horsemanship
REFRESH-INTERVAL;VALUE=DURATION:PT1H
X-Robots-Tag:noindex
X-PUBLISHED-TTL:PT1H
BEGIN:VTIMEZONE
TZID:America/New_York
BEGIN:DAYLIGHT
TZOFFSETFROM:-0500
TZOFFSETTO:-0400
TZNAME:EDT
DTSTART:20190310T070000
END:DAYLIGHT
BEGIN:STANDARD
TZOFFSETFROM:-0400
TZOFFSETTO:-0500
TZNAME:EST
DTSTART:20191103T060000
END:STANDARD
BEGIN:DAYLIGHT
TZOFFSETFROM:-0500
TZOFFSETTO:-0400
TZNAME:EDT
DTSTART:20200308T070000
END:DAYLIGHT
BEGIN:STANDARD
TZOFFSETFROM:-0400
TZOFFSETTO:-0500
TZNAME:EST
DTSTART:20201101T060000
END:STANDARD
BEGIN:DAYLIGHT
TZOFFSETFROM:-0500
TZOFFSETTO:-0400
TZNAME:EDT
DTSTART:20210314T070000
END:DAYLIGHT
BEGIN:STANDARD
TZOFFSETFROM:-0400
TZOFFSETTO:-0500
TZNAME:EST
DTSTART:20211107T060000
END:STANDARD
END:VTIMEZONE
BEGIN:VEVENT
DTSTART;VALUE=DATE:20211105
DTEND;VALUE=DATE:20211108
DTSTAMP:20260423T114455
CREATED:20210117T203100Z
LAST-MODIFIED:20210117T203100Z
UID:4319-1636070400-1636329599@www.nextlevelhorsemanship.com
SUMMARY:NRHA Affiliate Show - EPRHA
DESCRIPTION:Eastern PA Reining Horse Association
URL:https://www.nextlevelhorsemanship.com/event/nrha-affiliate-show-eprha-5/
END:VEVENT
BEGIN:VEVENT
DTSTART;VALUE=DATE:20210910
DTEND;VALUE=DATE:20210913
DTSTAMP:20260423T114455
CREATED:20210117T202934Z
LAST-MODIFIED:20210117T202934Z
UID:4317-1631232000-1631491199@www.nextlevelhorsemanship.com
SUMMARY:NRHA Affiliate Show - EPRHA
DESCRIPTION:Easter PA Reining Association
URL:https://www.nextlevelhorsemanship.com/event/nrha-affiliate-show-eprha-4/
END:VEVENT
BEGIN:VEVENT
DTSTART;VALUE=DATE:20210730
DTEND;VALUE=DATE:20210802
DTSTAMP:20260423T114455
CREATED:20210117T202824Z
LAST-MODIFIED:20210117T202824Z
UID:4315-1627603200-1627862399@www.nextlevelhorsemanship.com
SUMMARY:NRHA Affiliate Show - EPRHA
DESCRIPTION:Eastern PA Reining Association
URL:https://www.nextlevelhorsemanship.com/event/nrha-affiliate-show-eprha-3/
END:VEVENT
BEGIN:VEVENT
DTSTART;VALUE=DATE:20210430
DTEND;VALUE=DATE:20210503
DTSTAMP:20260423T114455
CREATED:20210117T202652Z
LAST-MODIFIED:20210117T202652Z
UID:4313-1619740800-1619999999@www.nextlevelhorsemanship.com
SUMMARY:NRHA Affiliate Show- EPRHA
DESCRIPTION:Eastern PA Reining Horse Association
URL:https://www.nextlevelhorsemanship.com/event/nrha-affiliate-show-eprha-2/
END:VEVENT
BEGIN:VEVENT
DTSTART;TZID=America/New_York:20210326T080000
DTEND;TZID=America/New_York:20210328T170000
DTSTAMP:20260423T114455
CREATED:20210117T202313Z
LAST-MODIFIED:20210117T202313Z
UID:4310-1616745600-1616950800@www.nextlevelhorsemanship.com
SUMMARY:NRHA Affiliate Show - EPRHA
DESCRIPTION:Eastern PA Reining Horse Association
URL:https://www.nextlevelhorsemanship.com/event/nrha-affiliate-show-eprha/
END:VEVENT
BEGIN:VEVENT
DTSTART;TZID=America/New_York:20210313T080000
DTEND;TZID=America/New_York:20210314T170000
DTSTAMP:20260423T114455
CREATED:20210117T204127Z
LAST-MODIFIED:20210117T211058Z
UID:4323-1615622400-1615741200@www.nextlevelhorsemanship.com
SUMMARY:Horsemanship Clinic
DESCRIPTION:Give your horse a tuneup and knock the rust off for great riding this spring.  We will help you problem solve and give you some great tips for better riding.
URL:https://www.nextlevelhorsemanship.com/event/horsemanship-clinic/
END:VEVENT
BEGIN:VEVENT
DTSTART;VALUE=DATE:20200928
DTEND;VALUE=DATE:20201012
DTSTAMP:20260423T114455
CREATED:20200312T035739Z
LAST-MODIFIED:20200312T035739Z
UID:4249-1601323200-1602446399@www.nextlevelhorsemanship.com
SUMMARY:All American Quarter Horse Congress
DESCRIPTION:Tentative Schedule
URL:https://www.nextlevelhorsemanship.com/event/all-american-quarter-horse-congress/
END:VEVENT
BEGIN:VEVENT
DTSTART;VALUE=DATE:20200916
DTEND;VALUE=DATE:20200922
DTSTAMP:20260423T114455
CREATED:20200312T035427Z
LAST-MODIFIED:20200312T035427Z
UID:4247-1600286400-1600718399@www.nextlevelhorsemanship.com
SUMMARY:YRHA Reining Show
DESCRIPTION:Yankee Reining Horse Association Futurity
URL:https://www.nextlevelhorsemanship.com/event/yrha-reining-show-2/
END:VEVENT
BEGIN:VEVENT
DTSTART;VALUE=DATE:20200910
DTEND;VALUE=DATE:20200914
DTSTAMP:20260423T114455
CREATED:20200312T035236Z
LAST-MODIFIED:20200312T035236Z
UID:4245-1599768000-1600027199@www.nextlevelhorsemanship.com
SUMMARY:EPRHA Reining Show
DESCRIPTION:Eastern PA Reining Horse Association Futurity
URL:https://www.nextlevelhorsemanship.com/event/eprha-reining-show-4/
END:VEVENT
BEGIN:VEVENT
DTSTART;VALUE=DATE:20200902
DTEND;VALUE=DATE:20200907
DTSTAMP:20260423T114455
CREATED:20200312T035144Z
LAST-MODIFIED:20200312T035144Z
UID:4243-1599076800-1599422399@www.nextlevelhorsemanship.com
SUMMARY:Buckeye Reining Show
DESCRIPTION:Buckeye Reining Series (Futurity\, Derby and & 7 & Up Derby)
URL:https://www.nextlevelhorsemanship.com/event/buckeye-reining-show/
END:VEVENT
BEGIN:VEVENT
DTSTART;VALUE=DATE:20200729
DTEND;VALUE=DATE:20200803
DTSTAMP:20260423T114455
CREATED:20200312T034800Z
LAST-MODIFIED:20200312T081519Z
UID:4241-1596052800-1596398399@www.nextlevelhorsemanship.com
SUMMARY:EPRHA Reining Show
DESCRIPTION:Eastern PA Reining Horse Association
URL:https://www.nextlevelhorsemanship.com/event/eprha-reining-show-3/
END:VEVENT
BEGIN:VEVENT
DTSTART;VALUE=DATE:20200722
DTEND;VALUE=DATE:20200727
DTSTAMP:20260423T114455
CREATED:20200312T034652Z
LAST-MODIFIED:20200312T034652Z
UID:4239-1595448000-1595793599@www.nextlevelhorsemanship.com
SUMMARY:YRHA Reining Show
DESCRIPTION:Yankee Reining Horse Association Derby
URL:https://www.nextlevelhorsemanship.com/event/yrha-reining-show/
END:VEVENT
BEGIN:VEVENT
DTSTART;VALUE=DATE:20200714
DTEND;VALUE=DATE:20200720
DTSTAMP:20260423T114455
CREATED:20200312T034504Z
LAST-MODIFIED:20200312T034504Z
UID:4237-1594756800-1595188799@www.nextlevelhorsemanship.com
SUMMARY:Mid Atlantic Reining Classic
DESCRIPTION:Virginia Reining Horse Association
URL:https://www.nextlevelhorsemanship.com/event/mid-atlantic-reining-classic/
END:VEVENT
BEGIN:VEVENT
DTSTART;VALUE=DATE:20200603
DTEND;VALUE=DATE:20200608
DTSTAMP:20260423T114455
CREATED:20200311T191103Z
LAST-MODIFIED:20200311T191328Z
UID:4231-1591214400-1591559999@www.nextlevelhorsemanship.com
SUMMARY:MRHA Reining Show
DESCRIPTION:Michigan Reining Horse Association Futurity
URL:https://www.nextlevelhorsemanship.com/event/mrha-reining-show/
END:VEVENT
BEGIN:VEVENT
DTSTART;VALUE=DATE:20200430
DTEND;VALUE=DATE:20200504
DTSTAMP:20260423T114455
CREATED:20200311T185438Z
LAST-MODIFIED:20200312T081444Z
UID:4229-1588276800-1588535999@www.nextlevelhorsemanship.com
SUMMARY:EPRHA Reining Show
DESCRIPTION:Eastern PA Reining Horse Association Derby
URL:https://www.nextlevelhorsemanship.com/event/eprha-reining-show-2/
END:VEVENT
BEGIN:VEVENT
DTSTART;VALUE=DATE:20200326
DTEND;VALUE=DATE:20200330
DTSTAMP:20260423T114455
CREATED:20200311T185053Z
LAST-MODIFIED:20200311T185648Z
UID:4227-1585252800-1585511999@www.nextlevelhorsemanship.com
SUMMARY:EPRHA Reining Show
DESCRIPTION:
URL:https://www.nextlevelhorsemanship.com/event/eprha-reining-show/
END:VEVENT
BEGIN:VEVENT
DTSTART;TZID=America/New_York:20190525T040000
DTEND;TZID=America/New_York:20190525T130000
DTSTAMP:20260423T114455
CREATED:20190121T032517Z
LAST-MODIFIED:20190121T032517Z
UID:4075-1558756800-1558789200@www.nextlevelhorsemanship.com
SUMMARY:Wild Mustang Adoption
DESCRIPTION:Wild Mustangs will be available for adoption at the Next Level Horsemanship StoreFront location in Port Matilda\, PA. BLM officials will be on sight to approve adoption applications or bill of sale.  Horses can be previewed on Friday and picked up Saturday.  Adoption/sale is on a first come\, first served basis.  See our event listing on Facebook for more details.
URL:https://www.nextlevelhorsemanship.com/event/wild-mustang-adoption/
END:VEVENT
END:VCALENDAR